BEGIN:VCALENDAR
VERSION:2.0
PRODID:-//WCSPP - ECPv6.15.20//NONSGML v1.0//EN
CALSCALE:GREGORIAN
METHOD:PUBLISH
X-WR-CALNAME:WCSPP
X-ORIGINAL-URL:https://wcspp.org
X-WR-CALDESC:Events for WCSPP
REFRESH-INTERVAL;VALUE=DURATION:PT1H
X-Robots-Tag:noindex
X-PUBLISHED-TTL:PT1H
BEGIN:VTIMEZONE
TZID:America/New_York
BEGIN:DAYLIGHT
TZOFFSETFROM:-0500
TZOFFSETTO:-0400
TZNAME:EDT
DTSTART:20250309T070000
END:DAYLIGHT
BEGIN:STANDARD
TZOFFSETFROM:-0400
TZOFFSETTO:-0500
TZNAME:EST
DTSTART:20251102T060000
END:STANDARD
BEGIN:DAYLIGHT
TZOFFSETFROM:-0500
TZOFFSETTO:-0400
TZNAME:EDT
DTSTART:20260308T070000
END:DAYLIGHT
BEGIN:STANDARD
TZOFFSETFROM:-0400
TZOFFSETTO:-0500
TZNAME:EST
DTSTART:20261101T060000
END:STANDARD
BEGIN:DAYLIGHT
TZOFFSETFROM:-0500
TZOFFSETTO:-0400
TZNAME:EDT
DTSTART:20270314T070000
END:DAYLIGHT
BEGIN:STANDARD
TZOFFSETFROM:-0400
TZOFFSETTO:-0500
TZNAME:EST
DTSTART:20271107T060000
END:STANDARD
END:VTIMEZONE
BEGIN:VEVENT
DTSTART;TZID=America/New_York:20260408T190000
DTEND;TZID=America/New_York:20260408T200000
DTSTAMP:20260425T063540
CREATED:20260215T145757Z
LAST-MODIFIED:20260325T132225Z
UID:25980616-1775674800-1775678400@wcspp.org
SUMMARY:Child/Adolescent Training Program Open House
DESCRIPTION:CAPP Training Program Open House\n\n\n\nMental health professionals\, join us to meet our program directors and ask questions of current candidates\, graduates\, and faculty. \nLearn about our extensive training opportunities for Fall 2026 in: Child\, Adolescent\, Parent Psychotherapy \nOur program weaves together the study of individual child & adolescent\, and parent development through understanding the impact of psychological histories\, relational patterns\, intergenerational effects\, and changing social contexts and constructs. Training is based on a psychodynamic\, relational orientation to change\, integrating parent guidance and advice as needed. \nWe welcome all mental health practitioners\, whether your work is exclusive to children & adolescents\, primarily serves adults or some combination. We never forget that there is\, after all\, a child’s history within each adult and the challenge of growing within every child\, adult\, and parent. \nWho is eligible and should apply?\nApplicants must be licensed Masters or Doctoral-level mental health professionals:\nMD\, PhD\, PsyD\, LCSW\, NP\, LMSW\, LCAT\, LMHC\, LMFT and LP\nFinancial assistance is available for those who qualify. \nCE hours available for some coursework for eligible NYS LCSW\, LMSW\, LMFT\, LMHC\,LCAT\, LP and NYS Psychologists and CT Social Workers through NASW CT. \nTimeline:\nRolling admissions with decisions made by July 30\, 2026\nProgram begins September 2026\nWe will continue to be on Zoom for the 2026-2027 year.
URL:https://wcspp.org/event/child-adolescent-training-program-open-house/
ATTACH;FMTTYPE=image/png:https://wcspp.org/wp-content/uploads/2026/02/eventbrite-size-2160-x-1080-px-2.png
END:VEVENT
END:VCALENDAR