BEGIN:VCALENDAR
VERSION:2.0
PRODID:-//WCSPP - ECPv6.15.20//NONSGML v1.0//EN
CALSCALE:GREGORIAN
METHOD:PUBLISH
X-WR-CALNAME:WCSPP
X-ORIGINAL-URL:https://wcspp.org
X-WR-CALDESC:Events for WCSPP
REFRESH-INTERVAL;VALUE=DURATION:PT1H
X-Robots-Tag:noindex
X-PUBLISHED-TTL:PT1H
BEGIN:VTIMEZONE
TZID:America/New_York
BEGIN:DAYLIGHT
TZOFFSETFROM:-0500
TZOFFSETTO:-0400
TZNAME:EDT
DTSTART:20250309T070000
END:DAYLIGHT
BEGIN:STANDARD
TZOFFSETFROM:-0400
TZOFFSETTO:-0500
TZNAME:EST
DTSTART:20251102T060000
END:STANDARD
BEGIN:DAYLIGHT
TZOFFSETFROM:-0500
TZOFFSETTO:-0400
TZNAME:EDT
DTSTART:20260308T070000
END:DAYLIGHT
BEGIN:STANDARD
TZOFFSETFROM:-0400
TZOFFSETTO:-0500
TZNAME:EST
DTSTART:20261101T060000
END:STANDARD
BEGIN:DAYLIGHT
TZOFFSETFROM:-0500
TZOFFSETTO:-0400
TZNAME:EDT
DTSTART:20270314T070000
END:DAYLIGHT
BEGIN:STANDARD
TZOFFSETFROM:-0400
TZOFFSETTO:-0500
TZNAME:EST
DTSTART:20271107T060000
END:STANDARD
END:VTIMEZONE
BEGIN:VEVENT
DTSTART;TZID=America/New_York:20260516T100000
DTEND;TZID=America/New_York:20260516T120000
DTSTAMP:20260425T063118
CREATED:20260407T190003Z
LAST-MODIFIED:20260415T131047Z
UID:25980690-1778925600-1778932800@wcspp.org
SUMMARY:Impairments to the "Therapeutic Minding" of Black Boys
DESCRIPTION:2 CE Hours available for\nNY Practitioners – LCSWs\, LMSWs\, LPs\, LMFTs\, LMHCs\, LCATs\, PHDs\, PSYDs\nCT Practitioners – LCSWs\, LMSWs\, LMFTs\, LPCs and Licensed Psychologists\n\n**HYBRID EVENT**\nIn-Person at the Scarsdale Public Library or Live on Zoom!\n \nCurrently\, a number of books have been written\, such as Ken Corbett’s\, Boyhoods: Rethinking Masculinities; Jonathan Haidt’s\, The Anxious Generation; and Richard Reeves\, Of Boys and Men\, addressing the social\, psychological\, and mental health challenges faced by male youth and youth in general.  A major benefit of these works is that they are available to the public as well as to professional audiences.  In addition\, unlike a considerable number of their predecessors\, efforts are made to address the different plight of Black youth or boys. \nThis presentation is an attempt to request psychoanalysts and psychoanalytic therapists to examine systemic racism and its unacknowledged effects upon the developing psyches of Black youth. It is particularly advantageous to consider the following: transgenerational trauma as a legacy from slavery\, our educational and apartheid institutional arrangements of living\, and the impediments to cross racial therapeutic engagement. \n \nKirkland C. Vaughans\, PhD\, is a clinical psychologist and psychoanalyst. A Fellow-training and supervising analyst on the faculty of IPTAR\, he is also faculty and founder of the Adelphi Derner/ Hempstead Child Clinic and Supervisor in the Child & Adolescent Program of the Derner Postgraduate Program and faculty at NYU Postdoctoral Program in Psychotherapy & Psychoanalysis and the Stephen Mitchell Relational Study Center. He is also the Honorary Institute Dean of the Harlem Family Institute. He is Founding Editor of the Journal of Infant\, Child\, and Adolescent Psychotherapy and the co-editor of the two-volume Psychology of Black Boys and Adolescents. He has presented at over 125 conferences and panel discussions on issues pertaining to white racism\, generational trauma among African Americans\, and the school-to-prison pipeline for boys and girls of Color\, and is a subject of the documentary\, Your Mum and Dad. He Is a founding member of Black Psychoanalysts Speak and was a member of the Holmes Commission. In addition\, he is a recipient of the 2024 Founder Award of SPPP (Div. 39) APA. \n\n\nCLICK HERE TO REGISTER TO ATTEND IN-PERSON \nCLICK HERE TO REGISTER TO ATTEND ON ZOOM \n\n 
URL:https://wcspp.org/event/impairments-to-the-therapeutic-minding-of-black-boys/
CATEGORIES:Homepage
ATTACH;FMTTYPE=image/png:https://wcspp.org/wp-content/uploads/2026/04/Vaughans.png
END:VEVENT
END:VCALENDAR