BEGIN:VCALENDAR
VERSION:2.0
PRODID:-//WCSPP - ECPv6.15.20//NONSGML v1.0//EN
CALSCALE:GREGORIAN
METHOD:PUBLISH
X-WR-CALNAME:WCSPP
X-ORIGINAL-URL:https://wcspp.org
X-WR-CALDESC:Events for WCSPP
REFRESH-INTERVAL;VALUE=DURATION:PT1H
X-Robots-Tag:noindex
X-PUBLISHED-TTL:PT1H
BEGIN:VTIMEZONE
TZID:America/New_York
BEGIN:DAYLIGHT
TZOFFSETFROM:-0500
TZOFFSETTO:-0400
TZNAME:EDT
DTSTART:20250309T070000
END:DAYLIGHT
BEGIN:STANDARD
TZOFFSETFROM:-0400
TZOFFSETTO:-0500
TZNAME:EST
DTSTART:20251102T060000
END:STANDARD
BEGIN:DAYLIGHT
TZOFFSETFROM:-0500
TZOFFSETTO:-0400
TZNAME:EDT
DTSTART:20260308T070000
END:DAYLIGHT
BEGIN:STANDARD
TZOFFSETFROM:-0400
TZOFFSETTO:-0500
TZNAME:EST
DTSTART:20261101T060000
END:STANDARD
BEGIN:DAYLIGHT
TZOFFSETFROM:-0500
TZOFFSETTO:-0400
TZNAME:EDT
DTSTART:20270314T070000
END:DAYLIGHT
BEGIN:STANDARD
TZOFFSETFROM:-0400
TZOFFSETTO:-0500
TZNAME:EST
DTSTART:20271107T060000
END:STANDARD
END:VTIMEZONE
BEGIN:VEVENT
DTSTART;TZID=America/New_York:20260318T193000
DTEND;TZID=America/New_York:20260318T203000
DTSTAMP:20260425T081537
CREATED:20260209T113636Z
LAST-MODIFIED:20260324T024316Z
UID:25980608-1773862200-1773865800@wcspp.org
SUMMARY:Supervisory Training Program Open House
DESCRIPTION:Are you a psychoanalytic graduate with a minimum of four years post-analytic training seeking to deepen your practice and gain new skills? \n\n\nJoin our Supervisory Training Program for the 2026-2027 academic year!\nProgram Highlights: \n\nOne-year certificate program\nProvide direct supervision to psychoanalytic candidates or graduates\nReceive weekly supervision from a senior faculty member\nOnce-weekly classes via zoom on a trimester basis\n\nProgram Benefits: \nLearn some benefits of joining this highly regarded program from graduates and instructors of the program such as: \n\nProfessional Development: Continuous learning and skill refinement\nMentorship: Guide and mentor emerging analysts\nDeepening Understanding: Delve deeper into theory and practice\nJoining a Warm Community: Where we welcome WCSPP graduates as well as those from other psychoanalytic institutes to learn in a collegial atmosphere.
URL:https://wcspp.org/event/supervisory-training-program-open-house/
ATTACH;FMTTYPE=image/png:https://wcspp.org/wp-content/uploads/2026/02/eventbrite-size-2160-x-1080-px-1.png
END:VEVENT
END:VCALENDAR